
BEGIN:VCALENDAR
VERSION:2.0
PRODID:-//Cyber-Seniors Inc. - ECPv6.6.4.2//NONSGML v1.0//EN
CALSCALE:GREGORIAN
METHOD:PUBLISH
X-ORIGINAL-URL:https://cyberseniors.org
X-WR-CALDESC:Events for Cyber-Seniors Inc.
REFRESH-INTERVAL;VALUE=DURATION:PT1H
X-Robots-Tag:noindex
X-PUBLISHED-TTL:PT1H
BEGIN:VTIMEZONE
TZID:America/Toronto
BEGIN:DAYLIGHT
TZOFFSETFROM:-0500
TZOFFSETTO:-0400
TZNAME:EDT
DTSTART:20260308T070000
END:DAYLIGHT
BEGIN:STANDARD
TZOFFSETFROM:-0400
TZOFFSETTO:-0500
TZNAME:EST
DTSTART:20261101T060000
END:STANDARD
END:VTIMEZONE
BEGIN:VEVENT
DTSTART;TZID=America/Toronto:20260423T140000
DTEND;TZID=America/Toronto:20260423T150000
DTSTAMP:20260423T091544
CREATED:20210610T204946Z
LAST-MODIFIED:20260416T212424Z
UID:5094-1776952800-1776956400@cyberseniors.org
SUMMARY:Tech Drop-In
DESCRIPTION:Have a quick question? Join us for our tech drop-in Thursdays at 2pm ET. Come with your questions and our volunteers will do their best to answer them. If we think it requires more time we will help  you book a one-on-one call. \n*NOTE: one registration for all sessions. Once registered\, join each Thursday through same Zoom invitation email. \n﻿﻿﻿﻿﻿﻿﻿﻿﻿﻿﻿﻿﻿﻿﻿﻿﻿﻿﻿﻿﻿﻿﻿﻿﻿﻿﻿﻿﻿﻿﻿﻿﻿﻿﻿﻿﻿﻿﻿﻿﻿﻿﻿﻿﻿﻿﻿﻿﻿﻿﻿﻿﻿﻿﻿﻿﻿﻿﻿﻿﻿﻿﻿﻿﻿﻿﻿﻿﻿﻿﻿﻿﻿﻿﻿﻿﻿﻿﻿﻿﻿﻿﻿﻿﻿﻿﻿﻿﻿﻿﻿﻿﻿﻿﻿﻿﻿﻿﻿﻿﻿﻿﻿﻿﻿﻿﻿﻿﻿﻿﻿﻿﻿﻿﻿﻿﻿﻿﻿﻿﻿﻿﻿﻿﻿﻿﻿﻿﻿﻿﻿﻿﻿
URL:https://cyberseniors.org/webinar/tech-drop-in/
CATEGORIES:Technology
ATTACH;FMTTYPE=image/png:https://cyberseniors.org/wp-content/uploads/2021/06/tech-dropin.png
END:VEVENT
BEGIN:VEVENT
DTSTART;TZID=America/Toronto:20260423T160000
DTEND;TZID=America/Toronto:20260423T170000
DTSTAMP:20260423T091544
CREATED:20210826T213929Z
LAST-MODIFIED:20260416T183806Z
UID:6466-1776960000-1776963600@cyberseniors.org
SUMMARY:Understanding App Stores: What’s Safe to Download
DESCRIPTION:In this session\, our teen tech mentors will explain how app stores work on iPhone and Android\, show you how to read app details and reviews\, and share tips to help you decide whether an app is safe and trustworthy before downloading. \n﻿﻿﻿
URL:https://cyberseniors.org/webinar/app-stores-whats-safe-to-download/
CATEGORIES:Technology
ATTACH;FMTTYPE=image/jpeg:https://cyberseniors.org/wp-content/uploads/2021/08/stores-google-play-app-store.jpg
END:VEVENT
BEGIN:VEVENT
DTSTART;TZID=America/Toronto:20260424T160000
DTEND;TZID=America/Toronto:20260424T170000
DTSTAMP:20260423T091544
CREATED:20210610T210111Z
LAST-MODIFIED:20260416T183811Z
UID:5110-1777046400-1777050000@cyberseniors.org
SUMMARY:Using Emergency Features on Your Phone
DESCRIPTION:In this session\, our teen tech mentors will demonstrate emergency features available on smartphones\, such as Emergency SOS\, medical ID\, and emergency contacts\, and show you how to set them up so they’re ready when you need them. \n﻿﻿﻿
URL:https://cyberseniors.org/webinar/emergency-features-on-your-phone/
CATEGORIES:Technology
ATTACH;FMTTYPE=image/png:https://cyberseniors.org/wp-content/uploads/2021/06/emergency-and-sos-features.png
END:VEVENT
END:VCALENDAR